BEGIN:VCALENDAR
VERSION:2.0
PRODID:-//Livable Raleigh - ECPv6.15.20//NONSGML v1.0//EN
CALSCALE:GREGORIAN
METHOD:PUBLISH
X-WR-CALNAME:Livable Raleigh
X-ORIGINAL-URL:https://livableraleigh.com
X-WR-CALDESC:Events for Livable Raleigh
REFRESH-INTERVAL;VALUE=DURATION:PT1H
X-Robots-Tag:noindex
X-PUBLISHED-TTL:PT1H
BEGIN:VTIMEZONE
TZID:America/New_York
BEGIN:DAYLIGHT
TZOFFSETFROM:-0500
TZOFFSETTO:-0400
TZNAME:EDT
DTSTART:20230312T070000
END:DAYLIGHT
BEGIN:STANDARD
TZOFFSETFROM:-0400
TZOFFSETTO:-0500
TZNAME:EST
DTSTART:20231105T060000
END:STANDARD
BEGIN:DAYLIGHT
TZOFFSETFROM:-0500
TZOFFSETTO:-0400
TZNAME:EDT
DTSTART:20240310T070000
END:DAYLIGHT
BEGIN:STANDARD
TZOFFSETFROM:-0400
TZOFFSETTO:-0500
TZNAME:EST
DTSTART:20241103T060000
END:STANDARD
BEGIN:DAYLIGHT
TZOFFSETFROM:-0500
TZOFFSETTO:-0400
TZNAME:EDT
DTSTART:20250309T070000
END:DAYLIGHT
BEGIN:STANDARD
TZOFFSETFROM:-0400
TZOFFSETTO:-0500
TZNAME:EST
DTSTART:20251102T060000
END:STANDARD
END:VTIMEZONE
BEGIN:VEVENT
DTSTART;TZID=America/New_York:20241021T160000
DTEND;TZID=America/New_York:20241021T190000
DTSTAMP:20260422T181154
CREATED:20241011T201619Z
LAST-MODIFIED:20241011T201619Z
UID:41669-1729526400-1729537200@livableraleigh.com
SUMMARY:Engage With Us!
DESCRIPTION:Join us at Shaw University Etsey Hall\, 721 S Wilmington St\, Raleigh\, NC 27601\, as City of Raleigh staff and the design teams present concept and advance designs for the following projects: \n\nJohn Chavis Aquatic Center and Heritage Plaza\nJohn P. “Top” Greene Community Center Renovation and Expansion\nSouth Park Heritage Walk Cultural Trail (Concept Design Only)\n\nLearn more information and to get involved. \nAges: AllCost: Free
URL:https://livableraleigh.com/event/engage-with-us/
LOCATION:Estey Hall\, Shaw University\, 118 East South Street\, Raleigh
CATEGORIES:Open Houses and Public Hearings
END:VEVENT
BEGIN:VEVENT
DTSTART;TZID=America/New_York:20241021T173000
DTEND;TZID=America/New_York:20241021T183000
DTSTAMP:20260422T181154
CREATED:20241010T163712Z
LAST-MODIFIED:20241010T163712Z
UID:41619-1729531800-1729535400@livableraleigh.com
SUMMARY:Neighborhood Rezoning Meeting: 5201 & 5301 Homewood Banks Dr\, 4401 Crabtree Valley Ave
DESCRIPTION:Oct. 215:30 p.m.\nNicholls & Crampton\, P.A.\, 3700 Glenwood Ave\, Suite 500\, Raleigh\, NC 27612\n5201 & 5301 Homewood Banks Dr\, 4401 Crabtree Valley Ave\nPost-Submittal \nText Change to Zoning Conditions \n(Additional Information)\nE\nIsabel Mattox\nTate
URL:https://livableraleigh.com/event/neighborhood-rezoning-meeting-5201-5301-homewood-banks-dr-4401-crabtree-valley-ave/
LOCATION:Nicholls & Crampton\, P.A.\, 3700 Glenwood Avenue\, Suite 500\, Raleigh\, 27612
CATEGORIES:Engagement Filter,Neighborhood Meeting (Zoning)
END:VEVENT
BEGIN:VEVENT
DTSTART;TZID=America/New_York:20241021T180000
DTEND;TZID=America/New_York:20241021T203000
DTSTAMP:20260422T181154
CREATED:20240927T171335Z
LAST-MODIFIED:20241021T181035Z
UID:41026-1729533600-1729542600@livableraleigh.com
SUMMARY:Bicycle & Pedestrian Advisory Commission (BPAC) -- cancelled
DESCRIPTION:The Bicycle and Pedestrian Advisory Commission (BPAC) is an all-volunteer advisory body\, appointed by the Raleigh City Council. Members are responsible for making recommendations on the implementation of relevant programs\, policies\, regulations\, and funding priorities regarding walking and bicycling in Raleigh. \nMeetsThe third Monday of every month\, unless otherwise specified. 6 p.m.BPAC Agenda
URL:https://livableraleigh.com/event/bicycle-pedestrian-advisory-commission-bpac-17/
LOCATION:Raleigh Municipal Building\, 222 W. Hargett St.\, Raleigh\, NC\, 27601\, United States
CATEGORIES:Bicycle & Pedestrian Advisory Commission
END:VEVENT
BEGIN:VEVENT
DTSTART;TZID=America/New_York:20241021T190000
DTEND;TZID=America/New_York:20241021T203000
DTSTAMP:20260422T181154
CREATED:20241006T220707Z
LAST-MODIFIED:20241006T220707Z
UID:41558-1729537200-1729542600@livableraleigh.com
SUMMARY:Raleigh People's Budget Assembly Candidate Forum for District C
DESCRIPTION:Monday\, October 21st at 7pm\, at Martin Street Baptist Church\, 1001 E Martin St.
URL:https://livableraleigh.com/event/raleigh-peoples-budget-assembly-candidate-forum-for-district-c/
LOCATION:Martin Street Baptist Church\, 1001 E. Martin Street\, Raleigh\, NC\, 27601
CATEGORIES:Election,Engagement Filter
END:VEVENT
BEGIN:VEVENT
DTSTART;TZID=America/New_York:20241021T190000
DTEND;TZID=America/New_York:20241021T203000
DTSTAMP:20260422T181154
CREATED:20241018T172303Z
LAST-MODIFIED:20241018T172303Z
UID:41803-1729537200-1729542600@livableraleigh.com
SUMMARY:East CAC Meeting
DESCRIPTION:The city has reinstated CACs (Citizen Advisory Councils) and we’re ready to be back in action serving you! For those of you who don’t know\, Raleigh is divided into 18 CACs so you’re automatically a member of one. We are a connecting point between City Council/Raleigh government and you. This allows you to have a voice in decisions that impact you. \nOur next CAC meeting is October 21 at 7pm at the Lions Park Community Center.
URL:https://livableraleigh.com/event/east-cac-meeting/
CATEGORIES:CAC,Engagement Filter
END:VEVENT
END:VCALENDAR