BEGIN:VCALENDAR
VERSION:2.0
PRODID:-//Livable Raleigh - ECPv6.15.20//NONSGML v1.0//EN
CALSCALE:GREGORIAN
METHOD:PUBLISH
X-ORIGINAL-URL:https://livableraleigh.com
X-WR-CALDESC:Events for Livable Raleigh
REFRESH-INTERVAL;VALUE=DURATION:PT1H
X-Robots-Tag:noindex
X-PUBLISHED-TTL:PT1H
BEGIN:VTIMEZONE
TZID:America/New_York
BEGIN:DAYLIGHT
TZOFFSETFROM:-0500
TZOFFSETTO:-0400
TZNAME:EDT
DTSTART:20230312T070000
END:DAYLIGHT
BEGIN:STANDARD
TZOFFSETFROM:-0400
TZOFFSETTO:-0500
TZNAME:EST
DTSTART:20231105T060000
END:STANDARD
BEGIN:DAYLIGHT
TZOFFSETFROM:-0500
TZOFFSETTO:-0400
TZNAME:EDT
DTSTART:20240310T070000
END:DAYLIGHT
BEGIN:STANDARD
TZOFFSETFROM:-0400
TZOFFSETTO:-0500
TZNAME:EST
DTSTART:20241103T060000
END:STANDARD
BEGIN:DAYLIGHT
TZOFFSETFROM:-0500
TZOFFSETTO:-0400
TZNAME:EDT
DTSTART:20250309T070000
END:DAYLIGHT
BEGIN:STANDARD
TZOFFSETFROM:-0400
TZOFFSETTO:-0500
TZNAME:EST
DTSTART:20251102T060000
END:STANDARD
END:VTIMEZONE
BEGIN:VEVENT
DTSTART;TZID=America/New_York:20240826T170000
DTEND;TZID=America/New_York:20240826T180000
DTSTAMP:20260421T211402
CREATED:20240821T175011Z
LAST-MODIFIED:20240821T175011Z
UID:40075-1724691600-1724695200@livableraleigh.com
SUMMARY:Neighborhood Rezoning Meeting: 9000 & 9004 Litchford Road
DESCRIPTION:August 26\, 2024 5 p.m.\nAbbotts Creek Community Center\, 9950 Durant Rd\, Raleigh\, NC 27614\n9000 & 9004 Litchford Rd.\nPre-Submittal \nR-1 TO R-10 \n(Additional Information)\nB\nNash Taylor\nRedus
URL:https://livableraleigh.com/event/neighborhood-rezoning-meeting-9000-9004-litchford-road/
LOCATION:Abbotts Creek Community Center\, 9950 Durant Rd\, Raleigh\, NC\, 27614
CATEGORIES:Engagement Filter,Neighborhood Meeting (Zoning)
END:VEVENT
BEGIN:VEVENT
DTSTART;TZID=America/New_York:20240826T170000
DTEND;TZID=America/New_York:20240826T183000
DTSTAMP:20260421T211402
CREATED:20240821T175401Z
LAST-MODIFIED:20240821T175401Z
UID:40079-1724691600-1724697000@livableraleigh.com
SUMMARY:Community Engagement Board Equity Sub-Committee Meeting
DESCRIPTION:The Community Engagement Board Equity Sub-Committee will meet virtually on Monday\, Aug. 26 from 5 p.m.-6:30 p.m. \nPlease register to attend this event.
URL:https://livableraleigh.com/event/community-engagement-board-equity-sub-committee-meeting/
CATEGORIES:Community Engagement Board
END:VEVENT
BEGIN:VEVENT
DTSTART;TZID=America/New_York:20240826T180000
DTEND;TZID=America/New_York:20240826T190000
DTSTAMP:20260421T211402
CREATED:20240813T191009Z
LAST-MODIFIED:20240813T191009Z
UID:39894-1724695200-1724698800@livableraleigh.com
SUMMARY:Neighborhood Rezoning Meeting: 901 Birch Ridge Drive
DESCRIPTION:August 26\, 2024 6:00 p.m.\nWorthdale Community Center\, 1001 Cooper Rd\, Raleigh\, NC 27610\n901 Birch Ridge Dr.\nPost Submittal \nIX-5 w/SHOD-1 TO CX-5-CU w/SHOD-1 \n(Additional Information)\nC\nCollier Marsh\nRedus
URL:https://livableraleigh.com/event/neighborhood-rezoning-meeting-901-birch-ridge-drive-2/
LOCATION:Worthdale Park Community Center\, 1001 Cooper Road\, Raleigh\, 27610
CATEGORIES:Engagement Filter,Neighborhood Meeting (Zoning)
END:VEVENT
BEGIN:VEVENT
DTSTART;TZID=America/New_York:20240826T180000
DTEND;TZID=America/New_York:20240826T190000
DTSTAMP:20260421T211402
CREATED:20240815T204802Z
LAST-MODIFIED:20240815T204802Z
UID:39927-1724695200-1724698800@livableraleigh.com
SUMMARY:A Celebration of Mount Hope Cemetery Fourth Ward
DESCRIPTION:Fourth Ward Celebration \nAugust 15\, 2024 \nYou’re invited! \nGreetings! I am Octavia Rainey\, a Raleigh Historian. I would like to invite you to an event series to learn more about the Fourth Ward neighborhood you live in. \nThe history goes back to the Cannon Planation. The Cannon family land was located near the railroad track and sold to freedmen. The Fourth Ward neighborhood was once a thriving African American neighborhood that was destroyed in the mid-1960s by urban renewal. The Fourth Ward is the name of our neighborhood\, and we must maintain the name of our neighborhood. \nThe City of Raleigh has a long-standing history of supporting activities that celebrate the rich history and cultural heritage of the city’s neighborhoods both past and present. \nThis weeklong celebration is an excellent opportunity to come out and meet your old neighbors\, talk about the past\, and learn about the future of the Fourth Ward. \nPlease join me at any or all of the six Fourth Ward Celebration events listed below. I’m looking forward to seeing you there. \nAugust 26 – September 1 Events \nMonday\, August 26\, 6p.m. – 7p.m.: A Celebration of Mount Hope Cemetery Fourth Ward\, Mount Hope Cemetery\, 120 Prospect Avenue \nWednesday\, August 28\, 6p.m. – 8p.m.: Kickoff of the Fourth Ward Exhibit at the City of Raleigh Museum\, 220 Fayetteville Street (Exhibits will run through Sunday\, Sept. 21 2024) \nThursday\, August 29\, 6p.m. – 8p.m.: The Fourth Ward Meet and Greet\, at the Raleigh Pathways Center\, 900 S. Wilmington Street (Additional parking is available at the Memorial Auditorium\, 2 E. South Street) \nFriday\, August 30\, 6p.m. – 8p.m.: A session on Restrictive Covenants\, the African Enslaved Project\, and Black Land Loss\, Dorothea Dix Chapel\, 1030 Richardson Drive \nSaturday\, August 31\, 1p.m. – 5p.m.: The Fourth Ward Cookout\, Roberts Park\, 1300 E. Martin Street Sunday\, September 1\, 4p.m. – 6p.m.: Gospel Extravaganza – The Five Black Churches of The Fourth Ward – \nBlack Neighborhood Expo\, Fletcher Hall\, 2 E. South Street \nOctavia Rainey \nRSVP to: Octavia Rainey\, Octavia_Rainey@yahoo.com
URL:https://livableraleigh.com/event/a-celebration-of-mount-hope-cemetery-fourth-ward/
LOCATION:Mount Hope Cemetery\, 120 Prospect Avenue\, Raleigh
CATEGORIES:Engagement Filter,Other
END:VEVENT
BEGIN:VEVENT
DTSTART;TZID=America/New_York:20240826T190000
DTEND;TZID=America/New_York:20240826T210000
DTSTAMP:20260421T211402
CREATED:20240816T142147Z
LAST-MODIFIED:20240816T142147Z
UID:39943-1724698800-1724706000@livableraleigh.com
SUMMARY:Hybrid Midtown Citizens Advisory Council Meeting
DESCRIPTION:Agenda \n\n\n\n\n\nHybrid Midtown Citizens Advisory Council Meeting \n\n\nMonday\, August 26\, 2024\, 7:00-9:00 pm \n\n\n\n\n\n1)   7:00           Call to Order and Welcome to Midtown CAC \n\n\n\n\n\n2)   7:05           Review of Minutes of Prior MCAC meetings\n \n\n\n3)   7:10           RPD officers Winkle and Garcia \n\n\n\n\n\n                        Activity and Crime Stats Report for Midtown \n\n\n                        Question and Answer \n\n\n\n\n\n4)   7:40           North Hills Development Update\nBonner Gaylord\nChief Operating Officer\, Kane Realty Corporation \n\n\n5)   8:20           City Council Updates \n\n\n\n\n\n6)   8:40           Old / New Business\, Announcements\, Remarks \n\n\n\n\n\n7)   9:00           Adjournment \n\n\n\n\n\nIn Person Location: \n\n\n                        Eastgate Park Community Center \n\n\n                        4200 Quail Hollow Drive \n\n\n                        Raleigh\, NC 27609 \n\n\n\n\n\nZoom Meeting Link: \n\n\nAvailable by Request \n\n\n\n\n\nVisit our Midtown CAC Facebook page: \n\n\n https://www.facebook.com/MidtownCAC
URL:https://livableraleigh.com/event/hybrid-midtown-citizens-advisory-council-meeting-4/
LOCATION:Eastgate Park\, 4200 Quail Hollow Dr\,\, Raleigh\, NC\, 27609
CATEGORIES:CAC,Engagement Filter
END:VEVENT
END:VCALENDAR