BEGIN:VCALENDAR
VERSION:2.0
PRODID:-//Livable Raleigh - ECPv6.15.20//NONSGML v1.0//EN
CALSCALE:GREGORIAN
METHOD:PUBLISH
X-WR-CALNAME:Livable Raleigh
X-ORIGINAL-URL:https://livableraleigh.com
X-WR-CALDESC:Events for Livable Raleigh
REFRESH-INTERVAL;VALUE=DURATION:PT1H
X-Robots-Tag:noindex
X-PUBLISHED-TTL:PT1H
BEGIN:VTIMEZONE
TZID:America/New_York
BEGIN:DAYLIGHT
TZOFFSETFROM:-0500
TZOFFSETTO:-0400
TZNAME:EDT
DTSTART:20230312T070000
END:DAYLIGHT
BEGIN:STANDARD
TZOFFSETFROM:-0400
TZOFFSETTO:-0500
TZNAME:EST
DTSTART:20231105T060000
END:STANDARD
BEGIN:DAYLIGHT
TZOFFSETFROM:-0500
TZOFFSETTO:-0400
TZNAME:EDT
DTSTART:20240310T070000
END:DAYLIGHT
BEGIN:STANDARD
TZOFFSETFROM:-0400
TZOFFSETTO:-0500
TZNAME:EST
DTSTART:20241103T060000
END:STANDARD
BEGIN:DAYLIGHT
TZOFFSETFROM:-0500
TZOFFSETTO:-0400
TZNAME:EDT
DTSTART:20250309T070000
END:DAYLIGHT
BEGIN:STANDARD
TZOFFSETFROM:-0400
TZOFFSETTO:-0500
TZNAME:EST
DTSTART:20251102T060000
END:STANDARD
END:VTIMEZONE
BEGIN:VEVENT
DTSTART;TZID=America/New_York:20240812T130000
DTEND;TZID=America/New_York:20240812T150000
DTSTAMP:20260421T211240
CREATED:20240702T133342Z
LAST-MODIFIED:20240802T163505Z
UID:39049-1723467600-1723474800@livableraleigh.com
SUMMARY:Board of Adjustment
DESCRIPTION:1. NEW BUSINESS\n\n\nA. BOA-0026-2024: 1500 Park Drive\nThis Agenda Item Contains an Attachment.\n\nB. BOA-0028-2024: 4807 Beryl Road\nThis Agenda Item Contains an Attachment.\n\n\n\n\n\n2. REPORT OF THE BOARD’S ATTORNEY\n\n\n\n3. APPROVAL OF MINUTES\n\n\nA. Approval of Draft July 8\, 2024 Meeting Minutes\n\n\n\n\n\n\n4. ADJOURNMENT\n\nThe Raleigh Board of Adjustment is a quasi-judicial body that acts on appeals for variances\, special exceptions\, and interpretations in the zoning regulations. Its decisions are final but may be subject to court action. The Board consists of eight members: four regular members and two alternate members are appointed to two-year terms by the City Council and must reside within the City limits; one regular member and one alternate are appointed by Wake County Commissioners and must reside within the City’s extraterritorial jurisdiction. Established by City Code Section 24-48. \nBoard of Adjustment public meetings will be broadcast live on RTN 11 and on our live streaming webpage. To watch past meetings\, visit our video services page.
URL:https://livableraleigh.com/event/board-of-adjustment-19/
LOCATION:Raleigh Municipal Building\, 222 W. Hargett St.\, Raleigh\, NC\, 27601\, United States
CATEGORIES:Board of Adjustment
END:VEVENT
BEGIN:VEVENT
DTSTART;TZID=America/New_York:20240812T160000
DTEND;TZID=America/New_York:20240812T170000
DTSTAMP:20260421T211240
CREATED:20240702T133443Z
LAST-MODIFIED:20240702T133443Z
UID:39051-1723478400-1723482000@livableraleigh.com
SUMMARY:Greenway Committee
DESCRIPTION:The Greenways Committee\, a standing committee of the Parks\, Recreation and Greenway Advisory Board\, will meet in the Raleigh Municipal Building Conference Room 303 every second Monday at 4 p.m.
URL:https://livableraleigh.com/event/greenway-committee-18/
LOCATION:Raleigh Municipal Building\, 222 W. Hargett St.\, Raleigh\, NC\, 27601\, United States
CATEGORIES:Greenway Committee
END:VEVENT
BEGIN:VEVENT
DTSTART;TZID=America/New_York:20240812T173000
DTEND;TZID=America/New_York:20240812T183000
DTSTAMP:20260421T211240
CREATED:20240801T164719Z
LAST-MODIFIED:20240801T164719Z
UID:39644-1723483800-1723487400@livableraleigh.com
SUMMARY:Neighborhood Rezoning Meeting: 118\, 122\, 126 Clarendon Cres
DESCRIPTION:August 12\, 20245:30 p.m.\nRoberts Park Community Center\, 1300 E Main Street\, Raleigh\, NC 27610\n118\, 122\, 126 Clarendon Cres.\nPre-Submittal \nR-4 w/NCOD TO RX-3-TOD \n(Additional Information)\nC\nMatt Tomasulo\nTate
URL:https://livableraleigh.com/event/neighborhood-rezoning-meeting-118-122-126-clarendon-cres/
LOCATION:Roberts Park Community Center\, 1300 E. Martin St\, Raleigh\, NC\, 27610
CATEGORIES:Engagement Filter,Neighborhood Meeting (Zoning)
END:VEVENT
BEGIN:VEVENT
DTSTART;TZID=America/New_York:20240812T190000
DTEND;TZID=America/New_York:20240812T203000
DTSTAMP:20260421T211240
CREATED:20240807T124125Z
LAST-MODIFIED:20240807T124125Z
UID:39807-1723489200-1723494600@livableraleigh.com
SUMMARY:Southwest Raleigh Community Engagement Meeting -- Virtual
DESCRIPTION:Join us Monday night\, August 12th at 7 PM for our regularly scheduled Southwest Raleigh Community Engagement Meeting we will be meeting on Zoom. \n\nGreetings to Friends and Neighbors\nCity of Raleigh Inspections Report – Inspector David Johnson.\nCity of Raleigh Monthly Report and Update – Captain Manson (SW-Southwest). Captain Notch (SE-Southeast)\, Captain Van Antwerp (DT-Downtown). Our SW area is now part of three Raleigh Police Districts.\nCity Solid Waste and Recycling – Chesley Wiggins\, City of Raleigh Solid Waste Services\, Waste Diversion Analyst will provide an overview of recycling and City trash collection programs. We should also get an assessment of how Southwest Raleigh collections are performing based on a Composition Study of recyclable materials. I suspect we can all learn to make the task easier. (No plastic bags please.)\nCommunity Group Forum – Comments and updates from our community leaders and residents. The City Staff proposed South Street closure for a relocated Red Hat Pavilion has received considerable interest.\nFor our September meeting (Monday the 9th at 7:00p.m.) we will be returning to our traditional home at Carolina Pines Community Center. Currently\, Engineering Services has agreed to provide an update for the Carolina Pines Ave. Improvement Project.\nHopefully\, we will in the future\, have access for in person quarterly meetings in the months of March\, June\, September and December. All other meetings will continue to be Virtual Zoom format.\n\nIf you have a particular interest and suggestions for topics please let us know.\n\n\n\n\n\n\n\n\n\n\n\n\n\n\n\n\n\n\n\n\n\n\n\n\n\n\n\n\n\n\n\n\n\n\n\n\n\n\n\n\n\n\n\n\n\n\n\n\n\n\n\n\n\n\n\n\n\n\n\n\n\n\n\n\n\n\n\n\n\n\n\n\n\n\n\n\n\n\n\nZoom Meeting
URL:https://livableraleigh.com/event/southwest-raleigh-community-engagement-meeting-virtual-2/
CATEGORIES:CAC,Engagement Filter
END:VEVENT
END:VCALENDAR