BEGIN:VCALENDAR
VERSION:2.0
PRODID:-//Livable Raleigh - ECPv6.15.20//NONSGML v1.0//EN
CALSCALE:GREGORIAN
METHOD:PUBLISH
X-ORIGINAL-URL:https://livableraleigh.com
X-WR-CALDESC:Events for Livable Raleigh
REFRESH-INTERVAL;VALUE=DURATION:PT1H
X-Robots-Tag:noindex
X-PUBLISHED-TTL:PT1H
BEGIN:VTIMEZONE
TZID:America/New_York
BEGIN:DAYLIGHT
TZOFFSETFROM:-0500
TZOFFSETTO:-0400
TZNAME:EDT
DTSTART:20230312T070000
END:DAYLIGHT
BEGIN:STANDARD
TZOFFSETFROM:-0400
TZOFFSETTO:-0500
TZNAME:EST
DTSTART:20231105T060000
END:STANDARD
BEGIN:DAYLIGHT
TZOFFSETFROM:-0500
TZOFFSETTO:-0400
TZNAME:EDT
DTSTART:20240310T070000
END:DAYLIGHT
BEGIN:STANDARD
TZOFFSETFROM:-0400
TZOFFSETTO:-0500
TZNAME:EST
DTSTART:20241103T060000
END:STANDARD
BEGIN:DAYLIGHT
TZOFFSETFROM:-0500
TZOFFSETTO:-0400
TZNAME:EDT
DTSTART:20250309T070000
END:DAYLIGHT
BEGIN:STANDARD
TZOFFSETFROM:-0400
TZOFFSETTO:-0500
TZNAME:EST
DTSTART:20251102T060000
END:STANDARD
END:VTIMEZONE
BEGIN:VEVENT
DTSTART;TZID=America/New_York:20240801T120000
DTEND;TZID=America/New_York:20240801T130000
DTSTAMP:20260421T211405
CREATED:20240702T131725Z
LAST-MODIFIED:20240702T131725Z
UID:39024-1722513600-1722517200@livableraleigh.com
SUMMARY:Art\, Education\, and Collections Committee
DESCRIPTION:Meeting Details\n\nMeetings are held virtually on the first Thursday of each month from noon to 1 p.m. unless listed otherwise on the calendar. \nFor more information about how to join the meeting\, please contact Raleigh Arts at 919-996-3610. \n\n \n\nLearn more about the Art\, Education\, and Collections Committee
URL:https://livableraleigh.com/event/art-education-and-collections-committee-18/
LOCATION:Virtual Meeting
CATEGORIES:Arts Commission
END:VEVENT
BEGIN:VEVENT
DTSTART;TZID=America/New_York:20240801T150000
DTEND;TZID=America/New_York:20240801T170000
DTSTAMP:20260421T211405
CREATED:20240702T131836Z
LAST-MODIFIED:20240729T205922Z
UID:39026-1722524400-1722531600@livableraleigh.com
SUMMARY:Stormwater Management Advisory Commission -- Cancelled
DESCRIPTION:The registration link and agenda will be available a week before the meeting date. If you subscribe to this meeting series\, you will receive the registration link and updates such as news and workshops. \nThis commission meets the first Thursday of every month. Members discuss various stormwater needs and issues. Then\, provides recommendations to staff and reports to Raleigh City Council. \nIf you would like to speak at this meeting during public comment\, please email us.
URL:https://livableraleigh.com/event/stormwater-management-advisory-commission-17/
LOCATION:Raleigh Transportation Field Services Building\, 2550 Operations Way\, Raleigh\, 27604
CATEGORIES:Stormwater Management
END:VEVENT
BEGIN:VEVENT
DTSTART;TZID=America/New_York:20240801T163000
DTEND;TZID=America/New_York:20240801T183000
DTSTAMP:20260421T211405
CREATED:20240702T131935Z
LAST-MODIFIED:20240719T171053Z
UID:39028-1722529800-1722537000@livableraleigh.com
SUMMARY:Design Review Commission
DESCRIPTION:Public Meeting – August 1\, 2024\n\n\n\n\n\n\nThe City of Raleigh Design Review Commission will conduct a public meeting on Thursday\, August 1 at 4:30 p.m. at the Raleigh Municipal Building\, 222 West Hargett Street in the Council Chamber. \n\n\n\n\n\n\nFor more information about the meeting\, please contact Kasey Evans or visit the Design Review Commission webpage. \n\nA. Design Alternates – Old Business\n\n\n1. DA-4-2024: Holy Trinity Greek Orthodox Church (5000 Lead Mine Rd)\nThis Agenda Item Contains an Attachment.\n\n2. DA-6-2024: 201 Hillsborough (200 W Morgan St)\nThis Agenda Item Contains an Attachment.\n\n\n\n\n\nB. Design Alternates – New Business\n\n\n1. DA-7-2024: 1021 Social St (Life Time Living Residential)\nThis Agenda Item Contains an Attachment.\n\n2. DA-8-2024: 4501 Edwards Mill Rd (Glenlake Lot 1)\nThis Agenda Item Contains an Attachment.\n\n3. DA-9-2024: 200 S West St (RUSBus)\nThis Agenda Item Contains an Attachment.\n\n\n\n\n\nC. Approval of Minutes\n\n\n1. Review July 10\, 2024 Meeting Minutes\n\n\n\n\n\n\nD. Sir Walter Raleigh Awards Planning\n\n\n1. SWRA Planning\n\n\n\n\n\n\nE. Report of the Commission’s Attorney\n\n\n\nF. Report of the Chair and/or Vice Chair\n\n\n\nG. Adjournment\n\nThe Commission typically meets on the first and third Thursday of each month at 4:30 p.m. Meeting agendas are added to the BoardDocs agenda management portal. Design Review Commission public meetings will be broadcast live on RTN 11 and on our live streaming webpage. To watch past meetings\, visit our video services page.
URL:https://livableraleigh.com/event/design-review-commission-5/
LOCATION:Raleigh Municipal Building\, 222 W. Hargett St.\, Raleigh\, NC\, 27601\, United States
CATEGORIES:Design Review Commission
END:VEVENT
BEGIN:VEVENT
DTSTART;TZID=America/New_York:20240801T170000
DTEND;TZID=America/New_York:20240801T180000
DTSTAMP:20260421T211405
CREATED:20240724T123438Z
LAST-MODIFIED:20240724T123438Z
UID:39557-1722531600-1722535200@livableraleigh.com
SUMMARY:Neighborhood Rezoning Meeting: 1025 Schaub Drive
DESCRIPTION:August 1\, 20245 p.m.\nGlen Eden Pilot Park\, 1500 Glen Eden Drive\, Raleigh\, NC 27612\n1025 Schaub Dr.\nPre-Submittal \nR-6-CU w/SHOD-1\, SRPOD\, TOD TO RX-7 w/SHOD-1\, SRPOD\, TOD \n(Additional Information)\nD\nDaniel Smoot\nBurns
URL:https://livableraleigh.com/event/neighborhood-rezoning-meeting-1025-schaub-drive/
LOCATION:Glen Eden Pilot Park\, 1500 Glen Eden Drive\, Raleigh
CATEGORIES:Engagement Filter,Neighborhood Meeting (Zoning)
END:VEVENT
END:VCALENDAR