BEGIN:VCALENDAR
VERSION:2.0
PRODID:-//Livable Raleigh - ECPv6.15.20//NONSGML v1.0//EN
CALSCALE:GREGORIAN
METHOD:PUBLISH
X-ORIGINAL-URL:https://livableraleigh.com
X-WR-CALDESC:Events for Livable Raleigh
REFRESH-INTERVAL;VALUE=DURATION:PT1H
X-Robots-Tag:noindex
X-PUBLISHED-TTL:PT1H
BEGIN:VTIMEZONE
TZID:America/New_York
BEGIN:DAYLIGHT
TZOFFSETFROM:-0500
TZOFFSETTO:-0400
TZNAME:EDT
DTSTART:20220313T070000
END:DAYLIGHT
BEGIN:STANDARD
TZOFFSETFROM:-0400
TZOFFSETTO:-0500
TZNAME:EST
DTSTART:20221106T060000
END:STANDARD
BEGIN:DAYLIGHT
TZOFFSETFROM:-0500
TZOFFSETTO:-0400
TZNAME:EDT
DTSTART:20230312T070000
END:DAYLIGHT
BEGIN:STANDARD
TZOFFSETFROM:-0400
TZOFFSETTO:-0500
TZNAME:EST
DTSTART:20231105T060000
END:STANDARD
BEGIN:DAYLIGHT
TZOFFSETFROM:-0500
TZOFFSETTO:-0400
TZNAME:EDT
DTSTART:20240310T070000
END:DAYLIGHT
BEGIN:STANDARD
TZOFFSETFROM:-0400
TZOFFSETTO:-0500
TZNAME:EST
DTSTART:20241103T060000
END:STANDARD
END:VTIMEZONE
BEGIN:VEVENT
DTSTART;TZID=America/New_York:20230919T073000
DTEND;TZID=America/New_York:20230919T093000
DTSTAMP:20260421T051947
CREATED:20230820T143414Z
LAST-MODIFIED:20230915T160017Z
UID:32049-1695108600-1695115800@livableraleigh.com
SUMMARY:Raleigh Historic Development Commission Meeting
DESCRIPTION:Public Meeting – September 19\n\n\n\nThe Raleigh Historic Development Commission will conduct a public meeting on Tuesday\, September 19 at 7:45 a.m. in Suite 100\, One Exchange Plaza\, Raleigh\, NC 27601. \nPlease allow time to go through building security.  Information and building rules are available online. \nFor questions about the meeting\, please contact historicpreservation@raleighnc.gov \n\n\n1. Call to Order\n\n\nA. Roll Call\n\n\n\n\n\n\n2. Consent Items\n\n\nA. Approval of Minutes from July 18\, 2023\nThis Agenda Item Contains an Attachment.\n\n\n\n\n\n3. Public Comment\n\n\nA. Public Comment – Limit to 3 minutes\n\n\n\n\n\n\n4. New Business\n\n\nA. Non-Regulatory Historic Recognition Programs\nThis Agenda Item Contains an Attachment.\n\nB. Annual Report and Work Plan\nThis Agenda Item Contains an Attachment.\n\n\n\n\n\n5. Committee Reports\n\n\nA. Research\n\n\nB. Community Awareness\n\n\nC. Certificate of Appropriateness\n\n\nD. Nominations\n\n\nE. Prince Hall HOD Ad Hoc\nThis Agenda Item Contains an Attachment.\n\n\n\n\n\n6. Other Business\n\n\nA. Report of Commissioners\n\n\nB. Report of Historic Preservation Unit\n\n\n\n\n\n\n7. Adjournment\n\n\nA. Adjourn Meeting\n\n\n\n\n\nThe Commission typically meets on the third Tuesday of each month at 7:45 a.m. Meeting agendas are added to the BoardDocs agenda management portal. \nRaleigh Historic Development Commission public meetings are broadcast and available for viewing by the public via the following methods: the city’s website; the city’s YouTube Channel or Channel RTN-11. To watch past meetings\, visit our video services page. \nAgenda and Participation\nVisit the RHDC webpage for additional information including the agenda and how to participate.
URL:https://livableraleigh.com/event/raleigh-historic-development-commission-meeting-8/
LOCATION:Urban Design Center\, One Exchange Plaza\, Raleigh\, NC\, 27601
CATEGORIES:Historic Development Commission
END:VEVENT
BEGIN:VEVENT
DTSTART;TZID=America/New_York:20230919T113000
DTEND;TZID=America/New_York:20230919T133000
DTSTAMP:20260421T051947
CREATED:20230820T143526Z
LAST-MODIFIED:20230915T101827Z
UID:32051-1695123000-1695130200@livableraleigh.com
SUMMARY:City Council Work Session
DESCRIPTION:A. 11:30 A.M. WORK SESSION CALLED TO ORDER BY THE MAYOR \n\n1. Downtown Issues: Non-Public Safety Related\n\n\nThe Raleigh City Council will meet for an afternoon session. \n\nWatch Council Meeting Live Stream\nView agendas and past minutes\nVisit our City Council page to find your council member and other council services.
URL:https://livableraleigh.com/event/city-council-work-session-12/
LOCATION:Raleigh Municipal Building\, 222 W. Hargett St.\, Raleigh\, NC\, 27601\, United States
CATEGORIES:City Council
END:VEVENT
BEGIN:VEVENT
DTSTART;TZID=America/New_York:20230919T130000
DTEND;TZID=America/New_York:20230919T150000
DTSTAMP:20260421T051947
CREATED:20230820T162604Z
LAST-MODIFIED:20230915T101916Z
UID:32053-1695128400-1695135600@livableraleigh.com
SUMMARY:City Council Afternoon Session
DESCRIPTION:B. 1:00 P.M. REGULAR SESSION CALLED TO ORDER BY THE MAYOR\n\n\n1. Pledge of Allegiance\n\n\n\n\n\n\nC. RECOGNITION OF SPECIAL AWARDS\n\n\n\nD. CONSENT AGENDA\n\n\n1. Consent Agenda Process\n\n\n2. Wake County Housing Authority Bond Issuance\nThis Agenda Item Contains an Attachment.\n\n3. Authorize Retirement Plan Amendments\n\n\n\n\n\n\nE. CONSENT AGENDA – PETITION ANNEXATIONS\n\n\n1. Petition Deferred Annexation – AX-22-23 Contiguous\, Inside ETJ – 7615 Louisburg Road (District B)\nThis Agenda Item Contains an Attachment.\n\n\n\n\n\nF. CONSENT AGENDA – GRANTS\n\n\n1. 2023 Justice Assistance Grant – U.S. Department of Justice\nThis Agenda Item Contains an Attachment.\n\n2. 2023 High Intensity Drug Trafficking Area Grant Award\nThis Agenda Item Contains an Attachment.\n\n\n\n\n\nG. CONSENT AGENDA – CONTRACTS AND CONSULTANT SERVICES\n\n\n1. Operating Support Agreement – Wolfline Bus Route – North Carolina State University\n\n\n2. Biltmore Hills Park Stormwater Control Measures – North Carolina State University – Amendment No. One\nThis Agenda Item Contains an Attachment.\n\n3. Professional Services – Master Services Agreement – On Call Engineering Services – HDR\, Inc. – Amendment No. One\n\n\n4. Contract Services – Newsome Watershed Protection Project – Triangle Land Conservancy\nThis Agenda Item Contains an Attachment.\n\n\n\n\n\nH. CONSENT AGENDA – PERSONNEL CHANGES\n\n\n1. Position Reclassification – Public Utilities\n\n\n\n\n\n\nI. CONSENT AGENDA – ENCROACHMENT REQUESTS\n\n\n1. North East Street – Retaining Wall and Steps\nThis Agenda Item Contains an Attachment.\n\n2. Leagan Drive – Monitoring Wells\nThis Agenda Item Contains an Attachment.\n\n\n\n\n\nJ. CONSENT AGENDA – BUDGET AMENDMENTS AND TRANSFERS\n\n\n1. Appropriation from Special Reserve – Police Department\nThis Agenda Item Contains an Attachment.\n\n\n\n\n\nK. CONSENT AGENDA – RIGHT- OF – WAY ITEMS (CONDEMNATION REQUESTS)\n\n\n1. South State Street Sewer Replacement\nThis Agenda Item Contains an Attachment.\n\n\n\n\n\nL. CONSENT AGENDA – TRAFFIC\n\n\n1. No Parking “Tow Away” Zone – Commerce Park Drive\nThis Agenda Item Contains an Attachment.\n\n2. Food Truck Loading Zone – Davie Street and Parking Modifications – Commerce Place\nThis Agenda Item Contains an Attachment.\n\n3. Mixed Use Loading Zone – 400 North Harrington Street\nThis Agenda Item Contains an Attachment.\n\n4. Traffic Schedule Updates\nThis Agenda Item Contains an Attachment.\n\n\n\n\n\nM. PUBLIC COMMENT\n\n\n1. Rules of Decorum for Public Comment\nThis Agenda Item Contains an Attachment.\n\n2. Voice Mail Public Comment\n\n\n\n\n\n\nN. REPORT AND RECOMMENDATION OF THE PLANNING COMMISSION\n\n\n1. Planning Commission Report\n\n\n2. Rezoning Z-30-23: Trawick Road\, half a mile east of US-1 on the North side (District C)\nThis Agenda Item Contains an Attachment.\n\n3. Rezoning Z-32-23: 3902 Stratford Court\, at the end of Stratford Court\, abutting Latisser Mill Road (District E)\nThis Agenda Item Contains an Attachment.\n\n4. Comprehensive Plan Amendment CP-4-23: Downtown Transition Areas\, east and south of the Glenwood-Brooklyn neighborhood (District D)\nThis Agenda Item Contains an Attachment.\n\n5. Text Change TC-2-23: Transit Overlay District (-TOD) Revisions\nThis Agenda Item Contains an Attachment.\n\n\n\n\n\nO. SPECIAL ITEMS\n\n\n1. External Text Change Request – Mordecai Neighborhood Conservation Overlay Districts – Citizen Initiated\nThis Agenda Item Contains an Attachment.\n\n2. Civil Service Act – Exemption by Position – Deferred from August 15 and September 5\nThis Agenda Item Contains an Attachment.\n\n\n\n\n\nP. REPORT AND RECOMMENDATION OF THE CITY MANAGER\n\n\n1. Authorization for City Initiated Rezoning – 15 Summit Avenue – Disposition of Property for Affordable Housing\nThis Agenda Item Contains an Attachment.\n\n2. Parkside Apartments – Land Acquisition\nThis Agenda Item Contains an Attachment.\n\n3. American Rescue Plan Act Funding – Oak City Biz Labs – Final Program Report\nThis Agenda Item Contains an Attachment.\n\n4. Convention Hotel Development Partner – Results from Request for Interest Process and Recommendation of Development Partner\nThis Agenda Item Contains an Attachment.\n\n5. City Clerk Functions and Next Steps – Discussion and Direction\n\n\n\n\n\n\nQ. REPORT AND RECOMMENDATION OF THE SUBSTANCE USE ADVISORY COMMISSION\n\n\n1. Annual Work Plan\nThis Agenda Item Contains an Attachment.\n\n\n\n\n\nR. MATTERS SCHEDULED FOR PUBLIC HEARING\n\n\n1. Rezoning Z-04-23: East side of Creedmoor Road\, south of Millbrook Road and just north of Sherborne Place (District A)\nThis Agenda Item Contains an Attachment.\n\n2. Rezoning Z-17-23: West side of Jones Franklin Road\, south of Centerview Drive and north of Woodsdale Road (District D)\nThis Agenda Item Contains an Attachment.\n\n3. Public Nuisance Abatement – Property Liens\nThis Agenda Item Contains an Attachment.\n\n4. Petition Annexation – AX-17-23 Contiguous Inside ETJ – 2533\, 2537 Wall Store Road (District C)\nThis Agenda Item Contains an Attachment.\n\n5. Petition Annexation – AX-21-23 Contiguous Inside ETJ – 2516 Prince Drive (District D)\nThis Agenda Item Contains an Attachment.\n\n6. Petition Annexation – AX-24-23 Non-Contiguous Inside ETJ – 3001 Sadie Hopkins Street (District D)\nThis Agenda Item Contains an Attachment.\n\n7. Rezoning Z-23-23: Buffaloe Road\, north side\, approximately 300 feet east of Iron Horse Road (District B)\nThis Agenda Item Contains an Attachment.\n\n8. Comprehensive Plan Amendment CP-3-23: Kellam-Wyatt Farm Park\, 1/2 south of the intersection of N Rogers St and HWY 64 (District C)\nThis Agenda Item Contains an Attachment.\n\n\n\n\n\nS. REPORT AND RECOMMENDATION OF THE ECONOMIC DEVELOPMENT AND INNOVATION COMMITTEE\n\n\n1. No Report\n\n\n2. Items Pending\n\n\n\n\n\n\nT. REPORT AND RECOMMENDATION OF THE GROWTH AND NATURAL RESOURCES COMMITTEE\n\n\n1. No Report\n\n\n2. Items Pending\n\n\n\n\n\n\nU. REPORT AND RECOMMENDATION OF THE SAFE\, VIBRANT AND HEALTHY COMMUNITY COMMITTEE\n\n\n1. No Report\n\n\n2. Items Pending\n\n\n\n\n\n\nV. REPORT AND RECOMMENDATION OF THE TRANSPORTATION AND TRANSIT COMMITTEE\n\n\n1. No Report\n\n\n2. Items Pending\n\n\n\n\n\n\nW. REPORT FROM THE MAYOR AND CITY COUNCIL\n\n\n1. Individual Reports from the Mayor and Council Members\n\n\n\n\n\n\nX. APPOINTMENTS\n\n\n1. Environmental Advisory Board – One Regular Vacancy\nThis Agenda Item Contains an Attachment.\n\n2. Historic Cemeteries Advisory Board – One Regular Vacancy\nThis Agenda Item Contains an Attachment.\n\n3. Historical Resources and Museums Advisory Board – Two Regular Vacancies\nThis Agenda Item Contains an Attachment.\n\n4. Human Relations Commission – One Alternate Vacancy\nThis Agenda Item Contains an Attachment.\n\n5. Human Relations Commission – Two Regular Vacancies\nThis Agenda Item Contains an Attachment.\n\n6. Parks\, Recreation and Greenway Advisory Board – One Regular Vacancy\nThis Agenda Item Contains an Attachment.\n\n7. Raleigh Transit Authority – Two Alternate Vacancies\nThis Agenda Item Contains an Attachment.\n\n8. Substance Use Advisory Commission – Two Regular Vacancies\nThis Agenda Item Contains an Attachment.\n\n\n\n\n\nY. NOMINATIONS\n\n\n1. Board of Adjustment – One Alternate Vacancy (County Appointee)\nThis Agenda Item Contains an Attachment.\n\n2. Bicycle and Pedestrian Advisory Board – One Regular Vacancy\nThis Agenda Item Contains an Attachment.\n\n3. Hispanic and Immigrant Affairs Board – One Regular Vacancy (Community Member Category)\nThis Agenda Item Contains an Attachment.\n\n4. Historical Resources and Museums Advisory Board – Two Regular Vacancies\nThis Agenda Item Contains an Attachment.\n\n5. Raleigh Sister Cities – One Regular Vacancy\nThis Agenda Item Contains an Attachment.\n\n6. Raleigh Transit Authority – One Regular Vacancy\nThis Agenda Item Contains an Attachment.\n\n\n\n\n\nZ. REPORT AND RECOMMENDATION OF THE CITY ATTORNEY\n\n\n1. Police Advisory Board – Appointee of the Police Chief\nThis Agenda Item Contains an Attachment.\n\n\n\n\n\nAA. REPORT AND RECOMMENDATION OF THE CITY CLERK\n\n\n1. Minutes – Various\nThis Agenda Item Contains an Attachment.\n\n\n\n\n\nBB. CLOSED SESSION\n\n\n1. Enter Closed Session\n\n\n\n\n\n\nCC. OPEN SESSION\n\n\n1. Return to Open Session\n\n\n2. Adjourn Meeting\n\n\n\nThe Raleigh City Council will meet for an afternoon session. \n\nWatch Council Meeting Live Stream\nView agendas and past minutes\nVisit our City Council page to find your council member and other council services.
URL:https://livableraleigh.com/event/city-council-afternoon-session-14/
LOCATION:Raleigh Municipal Building\, 222 W. Hargett St.\, Raleigh\, NC\, 27601\, United States
CATEGORIES:City Council
END:VEVENT
BEGIN:VEVENT
DTSTART;TZID=America/New_York:20230919T160000
DTEND;TZID=America/New_York:20230919T180000
DTSTAMP:20260421T051947
CREATED:20230820T162915Z
LAST-MODIFIED:20230917T132614Z
UID:32059-1695139200-1695146400@livableraleigh.com
SUMMARY:Planning Commission Text Change Committee - CANCELLED
DESCRIPTION:The Text Change Committee is a subcommittee where changes to the zoning code\, known as the Unified Development Ordinance\, are discussed. This subcommittee reviews the language of any potential code change. \nThe committee typically meets on the third Wednesday of the month at 4 p.m. The meetings are held at the Urban Design Center\, Room 108\, and sometimes at One Exchange Plaza Room 809.
URL:https://livableraleigh.com/event/planning-commission-text-change-committee-7/
LOCATION:Urban Design Center\, One Exchange Plaza\, Raleigh\, NC\, 27601
CATEGORIES:Planning Commission
END:VEVENT
BEGIN:VEVENT
DTSTART;TZID=America/New_York:20230919T173000
DTEND;TZID=America/New_York:20230919T190000
DTSTAMP:20260421T051947
CREATED:20230820T162704Z
LAST-MODIFIED:20230820T162704Z
UID:32055-1695144600-1695150000@livableraleigh.com
SUMMARY:Arts Commission
DESCRIPTION:Serving as the official advisory body and advocate for the arts to the City Council\, the Arts Commission is dedicated to the ongoing goal of connecting people to the arts and building a vital and ever-expanding creative community for Capital City residents and visitors. \nLearn more about the Arts Commission \nMeeting Details\nThe Arts Commission will meet in person at the John Chavis Memorial Park Community Center located at 505 Martin Luther King Jr. Boulevard\, Raleigh NC 27601. Contact Raleigh Arts to request an item for the agenda. \nView agenda and past meeting minutes on BoardDocs
URL:https://livableraleigh.com/event/arts-commission-8/
LOCATION:John Chavis Community Center\, 505 Martin Luther King Jr. Blvd.\, Raleigh\, NC\, 27601\, United States
CATEGORIES:Arts Commission
END:VEVENT
BEGIN:VEVENT
DTSTART;TZID=America/New_York:20230919T180000
DTEND;TZID=America/New_York:20230919T181500
DTSTAMP:20260421T051947
CREATED:20230915T163617Z
LAST-MODIFIED:20230915T163617Z
UID:32775-1695146400-1695147300@livableraleigh.com
SUMMARY:Human Relations Commission Special Meeting
DESCRIPTION:Human Relations Commission\nThe Raleigh Human Relations Commission is conducting a brief\, special meeting on Tuesday\, Sept. 19 from 6 p.m. until 6:15 p.m. for the purpose of voting to approve their FY24 workplan as well as minutes from previous meetings. \nThe meeting will be at the Raleigh Pathways Center at 900 S. Wilmington Street.
URL:https://livableraleigh.com/event/human-relations-commission-special-meeting/
LOCATION:Raleigh Pathways Center\, 900 S. Wilmington Street
CATEGORIES:Human Relations
END:VEVENT
END:VCALENDAR